BEGIN:VCALENDAR
VERSION:2.0
PRODID:-//ACJP - ECPv5.0.2.1//NONSGML v1.0//EN
CALSCALE:GREGORIAN
METHOD:PUBLISH
X-WR-CALNAME:ACJP
X-ORIGINAL-URL:https://www.ccja-acjp.ca/pub/fr
X-WR-CALDESC:Évènements pour ACJP
BEGIN:VTIMEZONE
TZID:America/Montreal
BEGIN:DAYLIGHT
TZOFFSETFROM:-0500
TZOFFSETTO:-0400
TZNAME:EDT
DTSTART:20180311T070000
END:DAYLIGHT
BEGIN:STANDARD
TZOFFSETFROM:-0400
TZOFFSETTO:-0500
TZNAME:EST
DTSTART:20181104T060000
END:STANDARD
END:VTIMEZONE
BEGIN:VEVENT
DTSTART;TZID=America/Montreal:20180821T040000
DTEND;TZID=America/Montreal:20180821T130000
DTSTAMP:20260420T095841
CREATED:20180821T134542Z
LAST-MODIFIED:20180821T134603Z
UID:719-1534824000-1534856400@www.ccja-acjp.ca
SUMMARY:CONGRÈS 2019: 100 ANS DE JUSTICE PÉNALE
DESCRIPTION:APPEL DE COMMUNICATION\nVous êtes cordialement invités à présenter une proposition de communication dans le cadre du congrès 2019\, organisé conjointement par la Société de criminologie du Québec et l’Association canadienne de justice pénale (ACJP). Cette édition arrive à point puisqu’elle soulignera les 100 ans d’existence de l’ACJP\, anniversaire historique qui nous inspira la thématique «100 ans de justice pénale». Vous avez jusqu’au 9 novembre 2018 pour soumettre votre appel de communication. \nL’événement 2019 étant d’envergure pancanadienne\, nous vous attendons en grand nombre du 6 au 9 novembre 2019 à l’Hôtel Le Concorde de Québec. Profitez de cette occasion unique pour enrichir vos savoirs et rencontrer divers professionnels\, qui comme vous\, cherchent à faire la différence dans leur milieu. Vous aurez la chance d’échanger et de discuter des résultats des plus récentes recherches\, des avenues d’intervention prometteuses\, des partenariats et de l’importance du travail concerté dans les différents champs que touche la justice. \nL’ACJP\, la Société de criminologie du Québec et les membres du comité organisateur du congrès invitent les chercheur(e)s\, les étudiant(e)s\, les intervenant(e)s\, les gestionnaires\, les décideur(e)s\, etc. à soumettre une proposition de communication s’inscrivant dans l’un des sous-thèmes présentés plus bas. Les propositions doivent préférablement viser une meilleure compréhension du sous-thème dans sa globalité\, afin de dégager ou d’inspirer de nouvelles pistes d’intervention\, ou encore présenter des actions novatrices. Le contenu des blocs thématiques n’est toutefois pas exhaustif. Des thèmes originaux pourraient être ajoutés\, s’ils sont en lien avec les connaissances et les actions développées en criminologie ou en justice. \nVous avez jusqu’au 9 novembre 2018 pour soumettre votre appel de communication. Nous sommes impatients de prendre connaissance de toutes les soumissions que nous recevrons! \n\nBLOCS THÉMATIQUES\nDROITS DE LA PERSONNE\nDROITS HUMAINS \nDroits des personnes judiciarisées | Diversité et inclusion : autochtones\, jeunes\, femmes\, aînés\, communautés LGBTQ2 et minorités visibles | Droits des victimes \nDROITS AUX SERVICES \nÉducation | Santé | Employabilité et développement des compétences | Intégration | Accompagnement | réinsertion sociale | Protection | Information \nPERSPECTIVES PHILOSOPHIQUE\, ÉTHIQUE ET HISTORIQUE \n  \nMODERNISATION DE L’APPAREIL JUDICIAIRE ET ACCÈS À LA JUSTICE\nACCÈS À LA JUSTICE \nComplexité et lourdeur du système judiciaire | Traitement des délais judiciaires | Désengorgement des tribunaux |Tribunaux spécialisés | Éducation citoyenne du système judiciaire | Alternatives à la détention | Élargissement du filet pénal et recours au milieu communautaire | Justice parallèle (dénonciations dans l’espace public) | Naissance de mouvements porteurs de changements (ex. #Metoo). \nASPECTS LÉGAUX ET DE GOUVERNANCE \nModernisation des lois | Légalisation du cannabis et décriminalisation de substances psychoactives | Réformes du droit pénal | Rôle de la prison | Aide médicale à mourir en détention | Gestion et administration des sentences (ex. peines intermittentes\, longues sentences) | Conditions de libérations | Valeurs et philosophies du système. \nASPECTS TECHNOLOGIQUES \nIntelligence artificielle au service de la justice | Intégration des nouvelles technologies (2.0) et restructuration du système juridique | Cyberjustice comme moyen d’accès à la justice. \n  \nLIEN DE CONFIANCE ET ENJEUX DE COMMUNICATION\nRESTAURER LA CONFIANCE \nImage et opinion publique | Rôles des citoyens | Acceptabilité sociale | Impact d’une perception négative du système judiciaire sur les victimes et personnes contrevenantes | Reconstruction des liens de confiance entre le citoyen et les institutions. \nENJEUX DE COMMUNICATION \nCouverture médiatique | Rôles des médias | Enjeux technologiques pour l’amélioration des communications et des bonnes pratiques entre les différents acteurs | Gestion de l’information. \n  \nPRÉVENTION\, INTERVENTION ET GESTION DU RISQUE\nPROGRAMMES D’INTERVENTION ET DE PRÉVENTION \nArrimage des interventions entre les différents acteurs (ex. en matière de santé mentale) | Développement des compétences des intervenants auprès des populations judiciarisées | Adaptation culturelle des moyens d’intervention | Toxicomanie et drogues mortelles | Exploitation sexuelle | Réinsertion et réintégration sociale | Projets novateurs et bonnes pratiques | Loi sur le système de justice pénale pour les adolescents \nGESTION DU RISQUE \nÉvaluation de modèles d’intervention et d’outils actuariels | Présentation d’indicateurs et de mesures de rendement | Gestion des populations judiciarisées (jeunes et adultes) | Mesure du risque de récidive \n\nMODES DE PRÉSENTATION\nLES ATELIERS\nD’une durée de 90 minutes\, incluant une période d’échange\, les ateliers sont des présentations de plusieurs individus ou organismes (trois ou quatre) qui se regroupent pour parler d’une même thématique. Les personnes-ressources doivent accorder une attention spéciale aux échanges et aux discussions avec les participants\, tout en respectant le temps prescrit à cet effet. \n  \nLES COMMUNICATIONS LIBRES\nD’une durée de 20 minutes\, les communications libres sont de courtes présentations sur un thème précis. Différentes communications libres seront regroupées en fonction de leurs thématiques pour former des ateliers. \n  \nLES AFFICHES SCIENTIFIQUES\nLes affiches permettent aux participants de présenter des résultats de recherche ou des expériences novatrices. Les présentateurs doivent fournir le support nécessaire à la présentation et s’assurer d’être sur place lors des moments déterminants pour répondre aux questions des congressistes. \n  \nLES PRÉSENTATIONS DE DOCUMENTAIRES\, DE COURTS-MÉTRAGES\, DE BALADOS OU AUTRES\nD’une durée de 90 minutes\, ce mode de présentation expose différents organismes ou équipes de production désirant informer\, sensibiliser ou partager une expérience tirée d’une réalité en lien avec les blocs thématiques. Il est recommandé de prévoir un temps de discussion avec l’auditoire\, tant sur le contenu de la présentation que sur le projet dans son ensemble. \n  \nLES VISITES DE MILIEUX\nD’une durée de 3h30\, le participant est amené à visiter sur place un milieu\, sa structure\, son fonctionnement\, sa clientèle\, etc. Il est important pour les organismes soumissionnaires de prévoir le transport des participants et l’accueil de ces derniers dans vos locaux. Veuillez également préciser la capacité d’accueil de votre milieu. \n  \nNOTES : Les propositions de communication peuvent prendre la forme d’un débat\, être formatives\, présenter des résultats de recherche\, des projets novateurs\, des milieux d’intervention\, des initiatives artistiques\, etc. Nous vous invitons fortement à favoriser la participation d’acteurs de différents milieux dans la présentation des communications. Les présentations pourront se faire en français et en anglais. Un service de traduction sera offert pour certaines présentations seulement. \n\nCOMMENT SOUMETTRE VOTRE COMMUNICATION\nLE FORMULAIRE WEB\nVous devez compléter le formulaire en ligne disponible sur le site web de la Société de criminologie du Québec (SCQ) au www.societecrimino.qc.ca ou sur le site web de l’Association canadienne de justice pénale (ACJP) au www.ccja-acjp.ca. \nVeuillez prendre note que le comité organisateur accordera la priorité aux propositions qui établissent un lien direct avec les blocs thématiques énoncés précédemment. Advenant que votre présentation ne traite pas de l’un de ces sujets\, les critères de sélection seront les suivants : importance de la problématique\, valeur scientifique du propos\, pertinence et portée des actions pour la pratique. \n  \nDIRECTIVES\n\nTous les présentateurs doivent payer les frais d’inscription\, et ce\, sans exceptions.\nDans le cas où vous ne pourriez tenir votre présentation\, vous devez vous engager à trouver un remplaçant pour ne pas affecter la programmation du congrès.\nUne préférence sera accordée aux présentateurs qui participeront à l’ensemble des activités\, ceci dans le but de susciter les échanges\, le réseautage et l’établissement de partenariats entre les congressistes.\nDate limite des soumissions : 9 novembre 2018\nRéponse aux soumissionnaires : 15 février 2019\nDates du congrès 2019 : 6 au 9 novembre 2019\n\n  \nFRAIS D’INSCRIPTION\n\n\n\n\nAVANT le 1er septembre 2019\nAPRÈS le 1er septembre 2019\n\n\nMembres de la SCQ ou de l’ACJP\n475 $\n525 $\n\n\nNon membres\n535 $\n585 $\n\n\nÉtudiants à temps plein (avec attestation à l’appui) ou retraités\n150 $\n200 $\n\n\nTarif à la journée\n225 $\n250 $\n\n\n\n
URL:https://www.ccja-acjp.ca/pub/fr/evenement/congres-2019-100-ans-de-justice-penale/
END:VEVENT
END:VCALENDAR