BEGIN:VCALENDAR
VERSION:2.0
PRODID:-//ACJP - ECPv5.0.2.1//NONSGML v1.0//EN
CALSCALE:GREGORIAN
METHOD:PUBLISH
X-WR-CALNAME:ACJP
X-ORIGINAL-URL:https://www.ccja-acjp.ca/pub/fr
X-WR-CALDESC:Évènements pour ACJP
BEGIN:VTIMEZONE
TZID:America/Montreal
BEGIN:DAYLIGHT
TZOFFSETFROM:-0500
TZOFFSETTO:-0400
TZNAME:EDT
DTSTART:20180311T070000
END:DAYLIGHT
BEGIN:STANDARD
TZOFFSETFROM:-0400
TZOFFSETTO:-0500
TZNAME:EST
DTSTART:20181104T060000
END:STANDARD
END:VTIMEZONE
BEGIN:VEVENT
DTSTART;TZID=America/Montreal:20180905T130000
DTEND;TZID=America/Montreal:20180905T140000
DTSTAMP:20260420T083619
CREATED:20180627T144739Z
LAST-MODIFIED:20180726T142853Z
UID:684-1536152400-1536156000@www.ccja-acjp.ca
SUMMARY:AGA de l'ACJP
DESCRIPTION:Tous les membres de l’ACJP sont les bienvenus à l’AGA. \n  \nAgenda \n\nAdoption of the Agenda\nAdoption of the Minutes of the Annual General Meeting of June 2017\nPresident’s Report\nExecutive Director’s Report\nAudited Financial Statements to March 31\, 2018\nAppointment of Auditors for 2018-2019\nAdjournment\n\n  \nIf you are unable to attend we would appreciate an email proxy from yourself to the effect that: \nI ________ appoint Irving Kulik or Mihael Cole on my behalf at the 2018 CCJA Annual General Meeting. \n
URL:https://www.ccja-acjp.ca/pub/fr/evenement/aga-de-lacjp/
ATTACH;FMTTYPE=image/jpeg:https://www.ccja-acjp.ca/pub/fr/wp-content/uploads/sites/7/2018/06/business-chairs-contemporary-416320.jpg
ORGANIZER;CN="ACJP":MAILTO:ccja-acjp@rogers.com
END:VEVENT
END:VCALENDAR