BEGIN:VCALENDAR
VERSION:2.0
PRODID:-//ACJP - ECPv5.0.2.1//NONSGML v1.0//EN
CALSCALE:GREGORIAN
METHOD:PUBLISH
X-WR-CALNAME:ACJP
X-ORIGINAL-URL:https://www.ccja-acjp.ca/pub/fr
X-WR-CALDESC:Évènements pour ACJP
BEGIN:VTIMEZONE
TZID:America/Montreal
BEGIN:DAYLIGHT
TZOFFSETFROM:-0500
TZOFFSETTO:-0400
TZNAME:EDT
DTSTART:20170312T070000
END:DAYLIGHT
BEGIN:STANDARD
TZOFFSETFROM:-0400
TZOFFSETTO:-0500
TZNAME:EST
DTSTART:20171105T060000
END:STANDARD
END:VTIMEZONE
BEGIN:VEVENT
DTSTART;VALUE=DATE:20171108
DTEND;VALUE=DATE:20171111
DTSTAMP:20260420T083422
CREATED:20170428T205337Z
LAST-MODIFIED:20170428T205337Z
UID:507-1510099200-1510358399@www.ccja-acjp.ca
SUMMARY:38e congrès de la Société de criminologie du Québec
DESCRIPTION:
URL:https://www.ccja-acjp.ca/pub/fr/evenement/38e-congres-de-la-societe-de-criminologie-du-quebec/
LOCATION:Manoir Saint-Sauveur\, Saint-Sauveur\, Québec\, Canada
END:VEVENT
END:VCALENDAR